BEGIN:VCALENDAR
VERSION:2.0
BEGIN:VEVENT
SUMMARY:Campanha do Agasalho
DESCRIPTION:Ação filantrópica com arrecadação de roupas.
LOCATION:Balneário Camboriú, SC
DTSTART:20260320T140000Z
DTEND:20260320T180000Z
END:VEVENT
END:VCALENDAR