BEGIN:VCALENDAR
VERSION:2.0
BEGIN:VEVENT
SUMMARY:Reunião Regional de Planejamento
DESCRIPTION:Encontro para definir metas e projetos do semestre.
LOCATION:Florianópolis, SC
DTSTART:20260215T090000Z
DTEND:20260215T120000Z
END:VEVENT
END:VCALENDAR